BEGIN:VCALENDAR
VERSION:2.0
PRODID:-//Plone.org//NONSGML plone.app.event//EN
X-WR-TIMEZONE:Europe/Berlin
BEGIN:VEVENT
SUMMARY:C++ User Group (2016/08)
DTSTART;TZID=Europe/Berlin:20160816T190000
DTEND;TZID=Europe/Berlin:20160816T210000
DTSTAMP:20260421T125052Z
UID:b8e10046dd9a418f9c943a4f5ebacd57@inet.haw-hamburg.de
CONTACT:Raphael Hiesgen\, raphael.hiesgen@haw-hamburg.de
CREATED:20160725T113004Z
DESCRIPTION:Meeting of the C++  User Group in Hamburg.
LAST-MODIFIED:20160725T113133Z
LOCATION:R11.60
URL:http://inet.haw-hamburg.de/events/community/copy_of_c-user-group-2016-
 07
END:VEVENT
BEGIN:VTIMEZONE
TZID:Europe/Berlin
X-LIC-LOCATION:Europe/Berlin
BEGIN:DAYLIGHT
DTSTART:20160327T030000
TZNAME:CEST
TZOFFSETFROM:+0100
TZOFFSETTO:+0200
END:DAYLIGHT
END:VTIMEZONE
END:VCALENDAR
