BEGIN:VCALENDAR
VERSION:2.0
PRODID:-//Plone.org//NONSGML plone.app.event//EN
X-WR-TIMEZONE:Europe/Berlin
BEGIN:VEVENT
SUMMARY:IETF 95\, Buenos Aires\, Argentina
DTSTART;TZID=Europe/Berlin:20160403T090000
DTEND;TZID=Europe/Berlin:20160408T180000
DTSTAMP:20260422T082639Z
UID:1716926b59c04e79a56ccb39e1d0c4ff@inet.haw-hamburg.de
CONTACT:Thomas Schmidt\, t.schmidt@haw-hamburg.de\, http://ietf.org/meetin
 g/95/index.html
CREATED:20160105T120427Z
LAST-MODIFIED:20160105T120440Z
LOCATION:Buenos Aires\, Argentina
URL:http://inet.haw-hamburg.de/events/conferences/ietf-95-buenos-aires-arg
 entina
END:VEVENT
BEGIN:VTIMEZONE
TZID:Europe/Berlin
X-LIC-LOCATION:Europe/Berlin
BEGIN:DAYLIGHT
DTSTART:20160327T030000
TZNAME:CEST
TZOFFSETFROM:+0100
TZOFFSETTO:+0200
END:DAYLIGHT
END:VTIMEZONE
END:VCALENDAR
