BEGIN:VCALENDAR
VERSION:2.0
PRODID:-//Plone.org//NONSGML plone.app.event//EN
X-WR-TIMEZONE:Europe/Berlin
BEGIN:VEVENT
SUMMARY:Dominik Charousset: libcppa - an actor library
DTSTART;TZID=Europe/Berlin:20110713T160000
DTEND;TZID=Europe/Berlin:20110713T170000
DTSTAMP:20260419T143613Z
UID:3a9f11d55e54d09ac0f82d6b1191a2ce@inet.haw-hamburg.de
CATEGORIES:INET Seminar
CONTACT:Thomas Schmidt\, schmidt@informatik.haw-hamburg.de
CREATED:20110826T143414Z
DESCRIPTION:libcppa - An actor library for C++ with transparent group sema
 ntic 
LAST-MODIFIED:20110829T111124Z
LOCATION:R 560
URL:http://inet.haw-hamburg.de/events/inet-seminar/dominik-charousset-libc
 ppa-an-actor-library
END:VEVENT
BEGIN:VTIMEZONE
TZID:Europe/Berlin
X-LIC-LOCATION:Europe/Berlin
BEGIN:DAYLIGHT
DTSTART:20110327T030000
TZNAME:CEST
TZOFFSETFROM:+0100
TZOFFSETTO:+0200
END:DAYLIGHT
END:VTIMEZONE
END:VCALENDAR
