BEGIN:VCALENDAR
VERSION:2.0
PRODID:-//Plone.org//NONSGML plone.app.event//EN
X-WR-TIMEZONE:Europe/Berlin
BEGIN:VEVENT
SUMMARY:Jonas Mücke: A QUICker Internet?  (Christmas Lecture)
DTSTART;TZID=Europe/Berlin:20221213T173000
DTEND;TZID=Europe/Berlin:20221213T183000
DTSTAMP:20260426T011953Z
UID:c24bbade95114512969e8e6d35babf29@inet.haw-hamburg.de
CONTACT:Thomas Schmidt\, t.schmidt@haw-hamburg.de\, https://haw-hamburg.zo
 om.us/my/inetxmas22
CREATED:20221128T150352Z
DESCRIPTION:A QUICker Internet? On pitfalls\, attacks\, and discovering hy
 pergiant infrastructures with QUIC
LAST-MODIFIED:20221221T101552Z
LOCATION:Virtual
URL:http://inet.haw-hamburg.de/events/inet-seminar/jonas-mucke-a-quicker-i
 nternet-christmas-lecture
END:VEVENT
BEGIN:VTIMEZONE
TZID:Europe/Berlin
X-LIC-LOCATION:Europe/Berlin
BEGIN:STANDARD
DTSTART:20221030T020000
TZNAME:CET
TZOFFSETFROM:+0200
TZOFFSETTO:+0100
END:STANDARD
END:VTIMEZONE
END:VCALENDAR
