BEGIN:VCALENDAR
VERSION:2.0
PRODID:-//Plone.org//NONSGML plone.app.event//EN
X-WR-TIMEZONE:Europe/Berlin
BEGIN:VEVENT
SUMMARY:Maynard Koch: Scanning the IPv6 Internet Using Subnet-Router Anyca
 st Probing
DTSTART;TZID=Europe/Berlin:20251118T170000
DTEND;TZID=Europe/Berlin:20251118T180000
DTSTAMP:20260420T223118Z
UID:ec9e245974fa48c19461db19d84c5e74@inet.haw-hamburg.de
CATEGORIES:INET Seminar
CONTACT:Thomas Schmidt\, t.schmidt@haw-hamburg.de\, https://tu-dresden.zoo
 m-x.de/my/maynard.koch
CREATED:20251104T185416Z
DESCRIPTION:Scanning the IPv6 Internet Using Subnet-Router Anycast Probing
LAST-MODIFIED:20251205T033213Z
LOCATION:R 460 and Online
URL:http://inet.haw-hamburg.de/events/inet-seminar/maynard-koch-scanning-t
 he-ipv6-internet-using-subnet-router-anycast-probing
END:VEVENT
BEGIN:VTIMEZONE
TZID:Europe/Berlin
X-LIC-LOCATION:Europe/Berlin
BEGIN:STANDARD
DTSTART:20251026T020000
TZNAME:CET
TZOFFSETFROM:+0200
TZOFFSETTO:+0100
END:STANDARD
END:VTIMEZONE
END:VCALENDAR
