BEGIN:VCALENDAR
VERSION:2.0
PRODID:-//Plone.org//NONSGML plone.app.event//EN
X-WR-TIMEZONE:Europe/Berlin
BEGIN:VEVENT
SUMMARY:Minh Tu Tran: PAS4i - P2P Streaming
DTSTART;TZID=Europe/Berlin:20091119T160000
DTEND;TZID=Europe/Berlin:20091119T170000
DTSTAMP:20260419T115959Z
UID:bc99066503ee63a18f733f5ad950cab9@inet.haw-hamburg.de
CATEGORIES:INET Seminar
CONTACT:Thomas Schmidt
CREATED:20091111T021839Z
DESCRIPTION:PAS4i - Peer-to-peer Audio Streaming for iPod 
LAST-MODIFIED:20091121T141605Z
LOCATION:560
URL:http://inet.haw-hamburg.de/events/inet-seminar/minh-tu-tran-pas4i-p2p-
 streaming
END:VEVENT
BEGIN:VTIMEZONE
TZID:Europe/Berlin
X-LIC-LOCATION:Europe/Berlin
BEGIN:STANDARD
DTSTART:20091025T020000
TZNAME:CET
TZOFFSETFROM:+0200
TZOFFSETTO:+0100
END:STANDARD
END:VTIMEZONE
END:VCALENDAR
