BEGIN:VCALENDAR
VERSION:2.0
PRODID:-//Plone.org//NONSGML plone.app.event//EN
X-WR-TIMEZONE:Europe/Berlin
BEGIN:VEVENT
SUMMARY:Niels Gandraß: uTimer: A Uniform Low-level Timer-API for RIOT-OS
DTSTART;TZID=Europe/Berlin:20210902T150000
DTEND;TZID=Europe/Berlin:20210902T160000
DTSTAMP:20260423T223335Z
UID:6b8ccd17d8034a61938097fbf89b70c3@inet.haw-hamburg.de
CONTACT:https://haw-hamburg.zoom.us/j/97751179478?pwd=dC9jVVB0ZzlHT0VpdlBk
 c21oYmVUQT09
CREATED:20210830T150413Z
LAST-MODIFIED:20211209T101817Z
LOCATION:Online
URL:http://inet.haw-hamburg.de/events/inet-seminar/niels-gandrass-utimer-a
 -uniform-low-level-timer-api-for-riot-os
END:VEVENT
BEGIN:VTIMEZONE
TZID:Europe/Berlin
X-LIC-LOCATION:Europe/Berlin
BEGIN:DAYLIGHT
DTSTART:20210328T030000
TZNAME:CEST
TZOFFSETFROM:+0100
TZOFFSETTO:+0200
END:DAYLIGHT
END:VTIMEZONE
END:VCALENDAR
