BEGIN:VCALENDAR
VERSION:2.0
PRODID:-//Plone.org//NONSGML plone.app.event//EN
X-WR-TIMEZONE:Europe/Berlin
BEGIN:VEVENT
SUMMARY:Raphael Hiesgen: The Age of DDoScovery
DTSTART;TZID=Europe/Berlin:20241022T160000
DTEND;TZID=Europe/Berlin:20241022T170000
DTSTAMP:20260419T181909Z
UID:5399d0905b4445cd9e762b7d2c9df205@inet.haw-hamburg.de
CONTACT:Thomas Schmidt\, t.schmidt@haw-hamburg.de\, https://tu-dresden.zoo
 m-x.de/j/61545152544?pwd=QpVJb9CWzlrgMDbYkCdgrADd9spkam.1
CREATED:20241016T104236Z
DESCRIPTION:The Age of DDoScovery: An Empirical Comparison of Industry and
  Academic DDoS Assessments
LAST-MODIFIED:20250603T191100Z
LOCATION:R 460
URL:http://inet.haw-hamburg.de/events/inet-seminar/raphael-hiesgen-the-age
 -of-ddoscovery
END:VEVENT
BEGIN:VTIMEZONE
TZID:Europe/Berlin
X-LIC-LOCATION:Europe/Berlin
BEGIN:DAYLIGHT
DTSTART:20240331T030000
TZNAME:CEST
TZOFFSETFROM:+0100
TZOFFSETTO:+0200
END:DAYLIGHT
END:VTIMEZONE
END:VCALENDAR
