BEGIN:VCALENDAR
VERSION:2.0
PRODID:-//Plone.org//NONSGML plone.app.event//EN
X-WR-TIMEZONE:Europe/Berlin
BEGIN:VEVENT
SUMMARY:Sebastian Meiling - On Performance and Robustness of Internet-Base
 d Smart Grid Communication: A Case Study for Germany
DTSTART;TZID=Europe/Berlin:20151027T160000
DTEND;TZID=Europe/Berlin:20151027T173000
DTSTAMP:20260423T223439Z
UID:12e287cc4e8b47679e619ddfa46aa26e@inet.haw-hamburg.de
CATEGORIES:INET Seminar
CONTACT:http://sgc2015.ieee-smartgridcomm.org/
CREATED:20151022T122241Z
DESCRIPTION:Trial presentation for SmartGridComm15
LAST-MODIFIED:20161209T082400Z
LOCATION:R 460
URL:http://inet.haw-hamburg.de/events/inet-seminar/sebastian-meiling-on-pe
 rformance-and-robustness-of-internet-based-smart-grid-communication-a-case
 -study-for-germany
END:VEVENT
BEGIN:VTIMEZONE
TZID:Europe/Berlin
X-LIC-LOCATION:Europe/Berlin
BEGIN:STANDARD
DTSTART:20151025T020000
TZNAME:CET
TZOFFSETFROM:+0200
TZOFFSETTO:+0100
END:STANDARD
END:VTIMEZONE
END:VCALENDAR
