BEGIN:VCALENDAR
VERSION:2.0
PRODID:-//Plone.org//NONSGML plone.app.event//EN
X-WR-TIMEZONE:Europe/Berlin
BEGIN:VEVENT
SUMMARY:Theodor Nolte: Mobile Honeypots
DTSTART;TZID=Europe/Berlin:20101130T160000
DTEND;TZID=Europe/Berlin:20101130T163000
DTSTAMP:20260422T190400Z
UID:6b457d0ba59a7dbdc039d1f426445e86@inet.haw-hamburg.de
CATEGORIES:INET Seminar
CONTACT:Thomas Schmidt\, schmidt@informatik.haw-hamburg.de
CREATED:20101123T164701Z
LAST-MODIFIED:20101213T025844Z
LOCATION:R 660
URL:http://inet.haw-hamburg.de/events/inet-seminar/theodor-nolte-mobile-ho
 neypots
END:VEVENT
BEGIN:VTIMEZONE
TZID:Europe/Berlin
X-LIC-LOCATION:Europe/Berlin
BEGIN:STANDARD
DTSTART:20101031T020000
TZNAME:CET
TZOFFSETFROM:+0200
TZOFFSETTO:+0100
END:STANDARD
END:VTIMEZONE
END:VCALENDAR
