BEGIN:VCALENDAR
VERSION:2.0
PRODID:-//Plone.org//NONSGML plone.app.event//EN
X-WR-TIMEZONE:Europe/Berlin
BEGIN:VEVENT
SUMMARY:78th IETF
DTSTART;TZID=Europe/Berlin:20100725T120000
DTEND;TZID=Europe/Berlin:20100730T200000
DTSTAMP:20260419T203956Z
UID:036635834e67ca572d9dfc7006fc6904@inet.haw-hamburg.de
CATEGORIES:Conference
CONTACT:http://www.ietf.org/meeting/78/index.html
CREATED:20100224T141953Z
DESCRIPTION:We give several talks in the following working groups: P2PSIP\
 , Multimob\, SAM\, MobOpts.
LAST-MODIFIED:20100720T160020Z
LOCATION:Maastricht\, Netherlands
URL:https://inet.haw-hamburg.de/events/conferences/78th-ietf
END:VEVENT
BEGIN:VTIMEZONE
TZID:Europe/Berlin
X-LIC-LOCATION:Europe/Berlin
BEGIN:DAYLIGHT
DTSTART:20100328T030000
TZNAME:CEST
TZOFFSETFROM:+0100
TZOFFSETTO:+0200
END:DAYLIGHT
END:VTIMEZONE
END:VCALENDAR
