BEGIN:VCALENDAR
VERSION:2.0
PRODID:-//Plone.org//NONSGML plone.app.event//EN
X-WR-TIMEZONE:Europe/Berlin
BEGIN:VEVENT
SUMMARY:83rd IETF Paris\, France
DTSTART;TZID=Europe/Berlin:20120325T100000
DTEND;TZID=Europe/Berlin:20120330T180000
DTSTAMP:20260420T012832Z
UID:42d8fa4baae3a9cee7194c7730f57b1f@inet.haw-hamburg.de
CATEGORIES:Conference
CONTACT:Thomas Schmidt\, schmidt@informatik.haw-hamburg.de\, http://www.ie
 tf.org/meeting/83/index.html
CREATED:20111119T045338Z
DESCRIPTION:We will continue work with several presentations about group c
 ommunication\, mobility\, security\, P2PSIP\, and related subjects at the 
 83rd IETF meeting. 
LAST-MODIFIED:20111119T045344Z
LOCATION:Paris\, France
URL:https://inet.haw-hamburg.de/events/conferences/83rd-ietf-paris-france
END:VEVENT
BEGIN:VTIMEZONE
TZID:Europe/Berlin
X-LIC-LOCATION:Europe/Berlin
BEGIN:DAYLIGHT
DTSTART:20120325T030000
TZNAME:CEST
TZOFFSETFROM:+0100
TZOFFSETTO:+0200
END:DAYLIGHT
END:VTIMEZONE
END:VCALENDAR
