BEGIN:VCALENDAR
VERSION:2.0
PRODID:-//Plone.org//NONSGML plone.app.event//EN
X-WR-TIMEZONE:Europe/Berlin
BEGIN:VEVENT
SUMMARY:DFN-Forum 2011
DTSTART;TZID=Europe/Berlin:20110620T090000
DTEND;TZID=Europe/Berlin:20110621T180000
DTSTAMP:20260419T235048Z
UID:834195bb28bbc90d141ad1fe46f288fb@inet.haw-hamburg.de
CATEGORIES:Conference
CONTACT:http://www.dfn2011.uni-bonn.de/
CREATED:20110415T142447Z
DESCRIPTION:We present a poster about our HAMcast project at the 4th DFN-F
 orum.
LAST-MODIFIED:20110415T142633Z
LOCATION:Bonn\, Germany
URL:https://inet.haw-hamburg.de/events/conferences/dfn-forum
END:VEVENT
BEGIN:VTIMEZONE
TZID:Europe/Berlin
X-LIC-LOCATION:Europe/Berlin
BEGIN:DAYLIGHT
DTSTART:20110327T030000
TZNAME:CEST
TZOFFSETFROM:+0100
TZOFFSETTO:+0200
END:DAYLIGHT
END:VTIMEZONE
END:VCALENDAR
