BEGIN:VCALENDAR
VERSION:2.0
PRODID:-//Plone.org//NONSGML plone.app.event//EN
X-WR-TIMEZONE:Europe/Berlin
BEGIN:VEVENT
SUMMARY:IETF 100
DTSTART;TZID=Europe/Berlin:20171111T090000
DTEND;TZID=Europe/Berlin:20171117T180000
DTSTAMP:20260419T235048Z
UID:28fcbe2d2d5941a3bae31fd6fc2ca315@inet.haw-hamburg.de
CONTACT:Thomas Schmidt\, t.schmidt@haw-hamburg.de\, https://www.ietf.org/m
 eeting/100/index.html
CREATED:20171103T181530Z
LAST-MODIFIED:20171103T181714Z
LOCATION:Singapore
URL:https://inet.haw-hamburg.de/events/conferences/ietf-100
END:VEVENT
BEGIN:VTIMEZONE
TZID:Europe/Berlin
X-LIC-LOCATION:Europe/Berlin
BEGIN:STANDARD
DTSTART:20171029T020000
TZNAME:CET
TZOFFSETFROM:+0200
TZOFFSETTO:+0100
END:STANDARD
END:VTIMEZONE
END:VCALENDAR
