BEGIN:VCALENDAR
VERSION:2.0
PRODID:-//Plone.org//NONSGML plone.app.event//EN
X-WR-TIMEZONE:Europe/Berlin
BEGIN:VEVENT
SUMMARY:CeBIT 2009
DTSTART;TZID=Europe/Berlin:20090303T001500
DTEND;TZID=Europe/Berlin:20090308T001500
DTSTAMP:20260419T124436Z
UID:64c0850502619e2fb2ad89ca59afc072@inet.haw-hamburg.de
CATEGORIES:Exhibition
CONTACT:http://www.cebit.de
CREATED:20090226T231512Z
LAST-MODIFIED:20090228T125900Z
LOCATION:Hall 2\, Booth F20\, Hannover\, Germany
URL:https://inet.haw-hamburg.de/events/exhibitions/cebit-2009
END:VEVENT
BEGIN:VTIMEZONE
TZID:Europe/Berlin
X-LIC-LOCATION:Europe/Berlin
BEGIN:STANDARD
DTSTART:20081026T020000
TZNAME:CET
TZOFFSETFROM:+0200
TZOFFSETTO:+0100
END:STANDARD
END:VTIMEZONE
END:VCALENDAR
