BEGIN:VCALENDAR
VERSION:2.0
PRODID:-//Plone.org//NONSGML plone.app.event//EN
X-WR-TIMEZONE:Europe/Berlin
BEGIN:VEVENT
SUMMARY:Georgios Papadopoulos: Assessment of Traffic Generators
DTSTART;TZID=Europe/Berlin:20120620T160000
DTEND;TZID=Europe/Berlin:20120620T170000
DTSTAMP:20260421T082551Z
UID:2d8e7be17997d48fa88759d6b0a5f097@inet.haw-hamburg.de
CATEGORIES:INET Seminar
CONTACT:Thomas Schmidt\, schmidt@informatik.haw-hamburg.de
CREATED:20120617T085124Z
DESCRIPTION:Assessment of Traffic Generators for Ethernet & IEEE 802.11 Ex
 perimentation
LAST-MODIFIED:20120617T085230Z
LOCATION:R 481
URL:https://inet.haw-hamburg.de/events/inet-seminar/assessment-of-traffic-
 generators
END:VEVENT
BEGIN:VTIMEZONE
TZID:Europe/Berlin
X-LIC-LOCATION:Europe/Berlin
BEGIN:DAYLIGHT
DTSTART:20120325T030000
TZNAME:CEST
TZOFFSETFROM:+0100
TZOFFSETTO:+0200
END:DAYLIGHT
END:VTIMEZONE
END:VCALENDAR
