BEGIN:VCALENDAR
VERSION:2.0
PRODID:-//Plone.org//NONSGML plone.app.event//EN
X-WR-TIMEZONE:Europe/Berlin
BEGIN:VEVENT
SUMMARY:Dominik Charousset: Implementation of a Middleware for Hybrid Adap
 tive Multicast (HAMcast)
DTSTART;TZID=Europe/Berlin:20100616T160000
DTEND;TZID=Europe/Berlin:20100616T170000
DTSTAMP:20260421T125102Z
UID:b8113a302e9fc86b8b6ae3f7a91c169d@inet.haw-hamburg.de
CATEGORIES:INET Seminar
CONTACT:Thomas Schmidt\, schmidt@informatik.haw-hamburg.de
CREATED:20100613T223055Z
DESCRIPTION:Software Concepts for a Service-centric Future Internet
LAST-MODIFIED:20100625T083915Z
LOCATION:R 560
URL:https://inet.haw-hamburg.de/events/inet-seminar/dominik-charousset-imp
 lementation-of-a-middleware-for-hybrid-adaptive-multicast-hamcast
END:VEVENT
BEGIN:VTIMEZONE
TZID:Europe/Berlin
X-LIC-LOCATION:Europe/Berlin
BEGIN:DAYLIGHT
DTSTART:20100328T030000
TZNAME:CEST
TZOFFSETFROM:+0100
TZOFFSETTO:+0200
END:DAYLIGHT
END:VTIMEZONE
END:VCALENDAR
