BEGIN:VCALENDAR
VERSION:2.0
PRODID:-//Plone.org//NONSGML plone.app.event//EN
X-WR-TIMEZONE:Europe/Berlin
BEGIN:VEVENT
SUMMARY:Fabian Holler: RPKI-RTR library
DTSTART;TZID=Europe/Berlin:20110601T170000
DTEND;TZID=Europe/Berlin:20110601T180000
DTSTAMP:20260420T122046Z
UID:f98250a44c4410c85c38f043fcebcbe4@inet.haw-hamburg.de
CATEGORIES:INET Seminar
CONTACT:schmidt@informatik.haw-hamburg.de
CREATED:20110430T222651Z
DESCRIPTION:Introduction to RPKI-RTR and draft of a client library
LAST-MODIFIED:20110601T141116Z
LOCATION:R 660
URL:https://inet.haw-hamburg.de/events/inet-seminar/fabian-holler-rpki-rtr
 -library
END:VEVENT
BEGIN:VTIMEZONE
TZID:Europe/Berlin
X-LIC-LOCATION:Europe/Berlin
BEGIN:DAYLIGHT
DTSTART:20110327T030000
TZNAME:CEST
TZOFFSETFROM:+0100
TZOFFSETTO:+0200
END:DAYLIGHT
END:VTIMEZONE
END:VCALENDAR
