BEGIN:VCALENDAR
VERSION:2.0
PRODID:-//Plone.org//NONSGML plone.app.event//EN
X-WR-TIMEZONE:Europe/Berlin
BEGIN:VEVENT
SUMMARY:Philipp Meyer:  Network Anomaly Detection in Cars
DTSTART;TZID=Europe/Berlin:20200909T160000
DTEND;TZID=Europe/Berlin:20200909T170000
DTSTAMP:20260422T085943Z
UID:06795d5852524f6f98888c82a319a47e@inet.haw-hamburg.de
CONTACT:Thomas Schmidt\, t.schmidt@haw-hamburg.de
CREATED:20200905T131212Z
DESCRIPTION:Network Anomaly Detection in Cars based on Time-Sensitive Ingr
 ess Control
LAST-MODIFIED:20201219T170942Z
LOCATION:https://haw-hamburg.zoom.us/j/94245097118
URL:https://inet.haw-hamburg.de/events/inet-seminar/philipp-meyer-network-
 anomaly-detection-in-cars
END:VEVENT
BEGIN:VTIMEZONE
TZID:Europe/Berlin
X-LIC-LOCATION:Europe/Berlin
BEGIN:DAYLIGHT
DTSTART:20200329T030000
TZNAME:CEST
TZOFFSETFROM:+0100
TZOFFSETTO:+0200
END:DAYLIGHT
END:VTIMEZONE
END:VCALENDAR
